BEGIN:VCALENDAR
VERSION:2.0
PRODID:-//York Civic Trust - ECPv6.15.20//NONSGML v1.0//EN
CALSCALE:GREGORIAN
METHOD:PUBLISH
X-WR-CALNAME:York Civic Trust
X-ORIGINAL-URL:https://yorkcivictrust.co.uk
X-WR-CALDESC:Events for York Civic Trust
REFRESH-INTERVAL;VALUE=DURATION:PT1H
X-Robots-Tag:noindex
X-PUBLISHED-TTL:PT1H
BEGIN:VTIMEZONE
TZID:Europe/London
BEGIN:DAYLIGHT
TZOFFSETFROM:+0000
TZOFFSETTO:+0100
TZNAME:BST
DTSTART:20240331T010000
END:DAYLIGHT
BEGIN:STANDARD
TZOFFSETFROM:+0100
TZOFFSETTO:+0000
TZNAME:GMT
DTSTART:20241027T010000
END:STANDARD
BEGIN:DAYLIGHT
TZOFFSETFROM:+0000
TZOFFSETTO:+0100
TZNAME:BST
DTSTART:20250330T010000
END:DAYLIGHT
BEGIN:STANDARD
TZOFFSETFROM:+0100
TZOFFSETTO:+0000
TZNAME:GMT
DTSTART:20251026T010000
END:STANDARD
BEGIN:DAYLIGHT
TZOFFSETFROM:+0000
TZOFFSETTO:+0100
TZNAME:BST
DTSTART:20260329T010000
END:DAYLIGHT
BEGIN:STANDARD
TZOFFSETFROM:+0100
TZOFFSETTO:+0000
TZNAME:GMT
DTSTART:20261025T010000
END:STANDARD
END:VTIMEZONE
BEGIN:VEVENT
DTSTART;TZID=Europe/London:20250819T143000
DTEND;TZID=Europe/London:20250819T163000
DTSTAMP:20260424T141921
CREATED:20250725T094217Z
LAST-MODIFIED:20250728T130230Z
UID:21647-1755613800-1755621000@yorkcivictrust.co.uk
SUMMARY:Magistrates in the Community
DESCRIPTION:Do you wonder what happens in the Magistrates’ Court? This event will help demystify the legal system\, explain how guilt or innocence is decided and how sentences are reached. Local magistrates offer a presentation about their work in court –“ sittings” -and invite participation. \nLocal magistrates Brian Watt JP and Chris Tolley JP will host the presentation in Fairfax House\, part of the Magistrates in the Community initiative by the Magistrates Association to open up court processes. Teams of volunteer magistrates across the UK aim to engage with audiences such as schools\, colleges\, community groups and social groups. The aim is to educate the wider community about the work of their local court. \nThe event is tailored to suit different audiences\, and can involve an interactive mock trial; commonly heard cases in the Court; how verdicts are reached; how sentences are decided\, using the now-famous Sentencing Guidelines; how magistrates are appointed; what is their role or the lawyers role; what is topical.\nThis will be an opportunity to ask questions and to participate. \nCastlegate Hub\, Fairfax House
URL:https://yorkcivictrust.co.uk/event2025/magistrates-in-the-community/
LOCATION:Fairfax House\, 27 Castlegate\, York\, United Kingdom
CATEGORIES:Autumn 2025
END:VEVENT
END:VCALENDAR